BEGIN:VCALENDAR
VERSION:2.0
PRODID:-//RIGHTHERE//CALENDARIZE IT V3.2//EN
BEGIN:VTIMEZONE
TZID:America/Los_Angeles
X-MICROSOFT-CDO-TZID:13
BEGIN:STANDARD
DTSTART:20251102T090000
TZOFFSETFROM:-0700
TZOFFSETTO:-0800
TZNAME:PST
END:STANDARD
BEGIN:DAYLIGHT
DTSTART:20260308T100000
TZOFFSETFROM:-0800
TZOFFSETTO:-0700
TZNAME:PDT
END:DAYLIGHT
BEGIN:STANDARD
DTSTART:20261101T090000
TZOFFSETFROM:-0700
TZOFFSETTO:-0800
TZNAME:PST
END:STANDARD
END:VTIMEZONE
BEGIN:VEVENT
UID:18994-events@outside2inside.com
DTSTART;TZID=America/Los_Angeles:20260426T160000
DTEND;TZID=America/Los_Angeles:20260426T170000
DTSTAMP;TZID=America/Los_Angeles:20260313T224833
SUMMARY:Outside2Inside – 2026 Earth Day Food Waste Awareness Event
URL:https://outside2inside.com/events/outside2inside-2026-earth-day-food-wa
 ste-awareness-event/
ORGANIZER;CN=Outside2Inside:MAILTO:contact@outside2inside.com
LOCATION:Online
END:VEVENT
END:VCALENDAR