BEGIN:VCALENDAR
VERSION:2.0
PRODID:-//RIGHTHERE//CALENDARIZE IT V3.2//EN
BEGIN:VTIMEZONE
TZID:America/Los_Angeles
X-MICROSOFT-CDO-TZID:13
BEGIN:STANDARD
DTSTART:20251102T090000
TZOFFSETFROM:-0700
TZOFFSETTO:-0800
TZNAME:PST
END:STANDARD
BEGIN:DAYLIGHT
DTSTART:20260308T100000
TZOFFSETFROM:-0800
TZOFFSETTO:-0700
TZNAME:PDT
END:DAYLIGHT
BEGIN:STANDARD
DTSTART:20261101T090000
TZOFFSETFROM:-0700
TZOFFSETTO:-0800
TZNAME:PST
END:STANDARD
END:VTIMEZONE
BEGIN:VEVENT
UID:8818-events@outside2inside.com
DTSTART;TZID=America/Los_Angeles:20190901T170000
DTEND;TZID=America/Los_Angeles:20190901T210000
DTSTAMP;TZID=America/Los_Angeles:20190901T010315
SUMMARY:O2I Officers’ Meeting
RRULE:FREQ=WEEKLY;INTERVAL=1
RDATE;TZID=America/Los_Angeles;VALUE=PERIOD:20190901T000000/20190901T000000
URL:https://outside2inside.com/events/o2i-officer-meeting/
ORGANIZER;CN=Outside2Inside:MAILTO:contact@outside2inside.com
LOCATION:Online
END:VEVENT
END:VCALENDAR